BEGIN:VCALENDAR
VERSION:2.0
PRODID:-//Eventos Santoto Tunja - ECPv5.2.0//NONSGML v1.0//EN
CALSCALE:GREGORIAN
METHOD:PUBLISH
X-WR-CALNAME:Eventos Santoto Tunja
X-ORIGINAL-URL:https://eventos.santototunja.edu.co
X-WR-CALDESC:Events for Eventos Santoto Tunja
BEGIN:VTIMEZONE
TZID:America/Bogota
BEGIN:STANDARD
TZOFFSETFROM:-0500
TZOFFSETTO:-0500
TZNAME:-05
DTSTART:20220101T000000
END:STANDARD
END:VTIMEZONE
BEGIN:VEVENT
DTSTART;TZID=America/Bogota:20221125T153000
DTEND;TZID=America/Bogota:20221125T180000
DTSTAMP:20260419T164746
CREATED:20221110T142128Z
LAST-MODIFIED:20221110T143128Z
UID:5588-1669390200-1669399200@eventos.santototunja.edu.co
SUMMARY:2do. Taller en Manejo y Sostenibilidad Ambiental
DESCRIPTION:Ingresar a ZOOM
URL:https://eventos.santototunja.edu.co/evento/2do-taller-en-manejo-y-sostenibilidad-ambiental/
LOCATION:Sala Zoom Santoto Tunja\, Colombia
CATEGORIES:Facultad de Ingeniería Ambiental
ATTACH;FMTTYPE=image/jpeg:https://eventos.santototunja.edu.co/wp-content/uploads/2022/11/web-Segundo-Taller-en-Manejo-y-Sostenibilidad-Ambiental.jpeg
END:VEVENT
END:VCALENDAR