BEGIN:VCALENDAR
VERSION:2.0
PRODID:-//Eventos Santoto Tunja - ECPv5.2.0//NONSGML v1.0//EN
CALSCALE:GREGORIAN
METHOD:PUBLISH
X-WR-CALNAME:Eventos Santoto Tunja
X-ORIGINAL-URL:https://eventos.santototunja.edu.co
X-WR-CALDESC:Events for Eventos Santoto Tunja
BEGIN:VTIMEZONE
TZID:America/Bogota
BEGIN:STANDARD
TZOFFSETFROM:-0500
TZOFFSETTO:-0500
TZNAME:-05
DTSTART:20220101T000000
END:STANDARD
END:VTIMEZONE
BEGIN:VEVENT
DTSTART;TZID=America/Bogota:20221130T080000
DTEND;TZID=America/Bogota:20221130T180000
DTSTAMP:20260419T144739
CREATED:20221122T161602Z
LAST-MODIFIED:20221122T161602Z
UID:5609-1669795200-1669831200@eventos.santototunja.edu.co
SUMMARY:Exposición de Póster de Investigación
DESCRIPTION:
URL:https://eventos.santototunja.edu.co/evento/exposicion-de-poster-de-investigacion/
LOCATION:Hall de Exposiciones – Primer piso Edificio Santo Domingo de Guzmán\, Campus Av. Universitaria\, Tunja\, Boyacá\, Colombia
CATEGORIES:Facultad de Ingeniería Ambiental
ATTACH;FMTTYPE=image/jpeg:https://eventos.santototunja.edu.co/wp-content/uploads/2022/11/web-_Exposición-de-poster-de-investigación.jpeg
END:VEVENT
END:VCALENDAR