BEGIN:VCALENDAR
VERSION:2.0
PRODID:-//Eventos Santoto Tunja - ECPv5.2.0//NONSGML v1.0//EN
CALSCALE:GREGORIAN
METHOD:PUBLISH
X-WR-CALNAME:Eventos Santoto Tunja
X-ORIGINAL-URL:https://eventos.santototunja.edu.co
X-WR-CALDESC:Events for Eventos Santoto Tunja
BEGIN:VTIMEZONE
TZID:America/Bogota
BEGIN:STANDARD
TZOFFSETFROM:-0500
TZOFFSETTO:-0500
TZNAME:-05
DTSTART:20220101T000000
END:STANDARD
END:VTIMEZONE
BEGIN:VEVENT
DTSTART;TZID=America/Bogota:20221206T030000
DTEND;TZID=America/Bogota:20221206T180000
DTSTAMP:20260419T144732
CREATED:20221122T142935Z
LAST-MODIFIED:20221122T142951Z
UID:5601-1670295600-1670349600@eventos.santototunja.edu.co
SUMMARY:A day in the life of an Environmental Engineer
DESCRIPTION:
URL:https://eventos.santototunja.edu.co/evento/a-day-in-the-life-of-an-environmental-engineer/
LOCATION:Auditorio Mayor Ed. Santo Domingo de Guzmán\, Campus Av Universitaria
CATEGORIES:Facultad de Ingeniería Ambiental
ATTACH;FMTTYPE=image/jpeg:https://eventos.santototunja.edu.co/wp-content/uploads/2022/11/web-A-Day-in-the-Life-of-an-Environmental-Engineer.jpeg
END:VEVENT
END:VCALENDAR