BEGIN:VCALENDAR
VERSION:2.0
PRODID:-//Eventos Santoto Tunja - ECPv5.2.0//NONSGML v1.0//EN
CALSCALE:GREGORIAN
METHOD:PUBLISH
X-WR-CALNAME:Eventos Santoto Tunja
X-ORIGINAL-URL:https://eventos.santototunja.edu.co
X-WR-CALDESC:Events for Eventos Santoto Tunja
BEGIN:VTIMEZONE
TZID:America/Bogota
BEGIN:STANDARD
TZOFFSETFROM:-0500
TZOFFSETTO:-0500
TZNAME:-05
DTSTART:20230101T000000
END:STANDARD
END:VTIMEZONE
BEGIN:VEVENT
DTSTART;TZID=America/Bogota:20230308T150000
DTEND;TZID=America/Bogota:20230308T180000
DTSTAMP:20260419T094753
CREATED:20230307T172941Z
LAST-MODIFIED:20230307T172941Z
UID:5776-1678287600-1678298400@eventos.santototunja.edu.co
SUMMARY:Curso de Actualización Ing. Ambiental
DESCRIPTION:
URL:https://eventos.santototunja.edu.co/evento/curso-de-actualizacion-ing-ambiental/
LOCATION:Edif. Santo Domingo de Guzman
CATEGORIES:Facultad de Ingeniería Ambiental
ATTACH;FMTTYPE=image/jpeg:https://eventos.santototunja.edu.co/wp-content/uploads/2023/03/CURSO-ACTUALIZACIÓN-AMBIENTAL_WEB.jpg
END:VEVENT
END:VCALENDAR