BEGIN:VCALENDAR
VERSION:2.0
PRODID:-//Eventos Santoto Tunja - ECPv5.2.0//NONSGML v1.0//EN
CALSCALE:GREGORIAN
METHOD:PUBLISH
X-WR-CALNAME:Eventos Santoto Tunja
X-ORIGINAL-URL:https://eventos.santototunja.edu.co
X-WR-CALDESC:Events for Eventos Santoto Tunja
BEGIN:VTIMEZONE
TZID:America/Bogota
BEGIN:STANDARD
TZOFFSETFROM:-0500
TZOFFSETTO:-0500
TZNAME:-05
DTSTART:20230101T000000
END:STANDARD
END:VTIMEZONE
BEGIN:VEVENT
DTSTART;TZID=America/Bogota:20230331T160000
DTEND;TZID=America/Bogota:20230331T180000
DTSTAMP:20260419T094816
CREATED:20230310T163809Z
LAST-MODIFIED:20230310T163809Z
UID:5791-1680278400-1680285600@eventos.santototunja.edu.co
SUMMARY:2da Gran Toma
DESCRIPTION:
URL:https://eventos.santototunja.edu.co/evento/2da-gran-toma/
LOCATION:Parqueadero Campus Av. Universitaria
CATEGORIES:Facultad de Ingeniería Ambiental
ATTACH;FMTTYPE=image/jpeg:https://eventos.santototunja.edu.co/wp-content/uploads/2023/03/web-Segunda-gran-toma-de-la-facultad-de-ingeniería-ambiental-de-la-santoto-Tunja-a-Villa-de-Leyva.jpg
END:VEVENT
END:VCALENDAR