BEGIN:VCALENDAR
VERSION:2.0
PRODID:-//Eventos Santoto Tunja - ECPv5.2.0//NONSGML v1.0//EN
CALSCALE:GREGORIAN
METHOD:PUBLISH
X-WR-CALNAME:Eventos Santoto Tunja
X-ORIGINAL-URL:https://eventos.santototunja.edu.co
X-WR-CALDESC:Events for Eventos Santoto Tunja
BEGIN:VTIMEZONE
TZID:America/Bogota
BEGIN:STANDARD
TZOFFSETFROM:-0500
TZOFFSETTO:-0500
TZNAME:-05
DTSTART:20230101T000000
END:STANDARD
END:VTIMEZONE
BEGIN:VEVENT
DTSTART;TZID=America/Bogota:20230418T140000
DTEND;TZID=America/Bogota:20230418T170000
DTSTAMP:20260419T075701
CREATED:20230414T133545Z
LAST-MODIFIED:20230414T133545Z
UID:5933-1681826400-1681837200@eventos.santototunja.edu.co
SUMMARY:Clase Espejo Innovación y Técnicas de Generación de Ideas
DESCRIPTION:
URL:https://eventos.santototunja.edu.co/evento/clase-espejo-innovacion-y-tecnicas-de-generacion-de-ideas/
LOCATION:Santoto Tunja Sala Zoom\, Colombia
CATEGORIES:Facultad de Ingeniería Ambiental
ATTACH;FMTTYPE=image/jpeg:https://eventos.santototunja.edu.co/wp-content/uploads/2023/04/CLASES-ESPEJO-ING-AMBIENTAL-2023-WEB.jpg
END:VEVENT
END:VCALENDAR