BEGIN:VCALENDAR
VERSION:2.0
PRODID:-//Eventos Santoto Tunja - ECPv5.2.0//NONSGML v1.0//EN
CALSCALE:GREGORIAN
METHOD:PUBLISH
X-WR-CALNAME:Eventos Santoto Tunja
X-ORIGINAL-URL:https://eventos.santototunja.edu.co
X-WR-CALDESC:Events for Eventos Santoto Tunja
BEGIN:VTIMEZONE
TZID:America/Bogota
BEGIN:STANDARD
TZOFFSETFROM:-0500
TZOFFSETTO:-0500
TZNAME:-05
DTSTART:20220101T000000
END:STANDARD
END:VTIMEZONE
BEGIN:VEVENT
DTSTART;TZID=America/Bogota:20220314T180000
DTEND;TZID=America/Bogota:20220317T200000
DTSTAMP:20260420T123258
CREATED:20220310T194502Z
LAST-MODIFIED:20220315T212906Z
UID:4568-1647280800-1647547200@eventos.santototunja.edu.co
SUMMARY:II Jornada de Actualización de Egresados
DESCRIPTION:Inscríbete Aquí
URL:https://eventos.santototunja.edu.co/evento/ii-jornada-de-actualizacion-de-egresados/
LOCATION:Auditorio menor 1 Edificio Santo Domingo\, Campus Avenida Universitaria\, Tunja\, Boyacá\, 15001\, Colombia
CATEGORIES:Apoyo a Egresados,Facultad de Ingeniería Civil
ATTACH;FMTTYPE=image/jpeg:https://eventos.santototunja.edu.co/wp-content/uploads/2022/03/II_Jornada_de_Actualizacion_de_Egresados_2.jpeg
END:VEVENT
END:VCALENDAR